{
 "version": 1.0,
 "tileBundlesPath": "./tile",
 "tileInfo": {
  "spatialReference": {
   "wkid": 32188,
   "latestWkid": 32188
  },
  "origin": {
   "x": -5317800,
   "y": 10001100
  },
  "rows": 256,
  "cols": 256,
  "dpi": 300,
  "lods": [
   {
    "level": 0,
    "resolution": 2.709338752010838,
    "scale": 32000
   },
   {
    "level": 1,
    "resolution": 1.354669376005419,
    "scale": 16000
   },
   {
    "level": 2,
    "resolution": 0.6773346880027095,
    "scale": 8000
   },
   {
    "level": 3,
    "resolution": 0.33866734400135473,
    "scale": 4000
   },
   {
    "level": 4,
    "resolution": 0.16933367200067737,
    "scale": 2000
   },
   {
    "level": 5,
    "resolution": 0.08466683600033868,
    "scale": 1000
   },
   {
    "level": 6,
    "resolution": 0.04233341800016934,
    "scale": 500
   },
   {
    "level": 7,
    "resolution": 0.02116670900008467,
    "scale": 250
   }
  ],
  "format": "MIXED",
  "compressionQuality": 75,
  "bandCount": 1,
  "lercError": 0,
  "storageFormat": "esriMapCacheStorageModeCompactV2",
  "packetSize": 128
 },
 "storageInfo": {
  "packetSize": 128,
  "storageFormat": "esriMapCacheStorageModeCompactV2"
 },
 "tileImageInfo": {
  "format": "MIXED",
  "compressionQuality": 75,
  "bandCount": 1,
  "lercError": 0
 },
 "name": "Export_tiles",
 "minLOD": 0,
 "maxLOD": 7,
 "spatialReference": {
  "wkid": 32188,
  "latestWkid": 32188
 },
 "units": "esriMeters",
 "serviceDescription": "",
 "resampling": true,
 "initialExtent": {
  "xmin": 263631.03886207845,
  "ymin": 5043611.980357293,
  "xmax": 278255.30861061794,
  "ymax": 5053777.059520785,
  "spatialReference": {
   "wkid": 32188,
   "latestWkid": 32188
  }
 },
 "fullExtent": {
  "xmin": 263631.03886207845,
  "ymin": 5043611.980357293,
  "xmax": 278255.30861061794,
  "ymax": 5053777.059520785,
  "spatialReference": {
   "wkid": 32188,
   "latestWkid": 32188
  }
 },
 "minScale": 32000.0,
 "maxScale": 250.0,
 "exportTilesAllowed": false,
 "maxExportTilesCount": 0,
 "currentVersion": 10.91,
 "mapName": "Export_tiles",
 "singleFusedMapCache": true,
 "type": "MapServer",
 "supportedExtensions": "",
 "capabilities": "TilesOnly,Tilemap",
 "serviceItemId": "2ce1be76d418401fab238ed16dda2d39"
}
